BEGIN:VCALENDAR
VERSION:2.0
PRODID:-//TYPO3/WES Cal (wes_cal)//DE
METHOD:PUBLISH
BEGIN:VEVENT
UID:https://www.medienhaus-am-see.de_41057
DTSTAMP:20260419T172938
DTSTART:20260428T153000
CATEGORIES:Veranstaltungs-Kategorien,Kinder & Familie,Für Kinder,Vorlesestunde,Ferienprogramm,Ferienprogramm
SUMMARY:Vorlesestunde „Meins! Nein, meins!“
DESCRIPTION:Zweigstelle Fischbach \r\nBeate Kunkel liest die Geschichte für Kinder ab vier Jahren vor. \r\nAnschließend wird gemalt.\r\nKostenlos\r\nOhne Begleitung 
LOCATION:Medienhaus am See – Zweigstelle Fischbach, 88048 Friedrichshafen
ATTACH:https://www.medienhaus-am-see.de/fileadmin/BENUTZERDATEN/medienhaus-am-see.de/Veranstaltungen/2026_Buchcover_Meinsneinmeins.jpg
END:VEVENT
END:VCALENDAR