BEGIN:VCALENDAR
VERSION:2.0
PRODID:-//TYPO3/WES Cal (wes_cal)//DE
METHOD:PUBLISH
BEGIN:VEVENT
UID:https://www.medienhaus-am-see.de_41056
DTSTAMP:20260419T171647
DTSTART:20260421T153000
CATEGORIES:Veranstaltungs-Kategorien,Kinder & Familie,Für Kinder,Vorlesestunde,Ferienprogramm,Ferienprogramm
SUMMARY:Vorlesestunde „Der kleine Waschbär Waschmichnicht“
DESCRIPTION:Zweigstelle Fischbach \r\nDer kleine Waschbär Waschmichnicht kann Wasser und das einhergehende Waschen nicht ausstehen! Doch seine Mama schwärmt ihm jeden Morgen von einem Fluss mit dem klarsten Wasser der Welt vor. Doch Waschmichnicht denkt nicht daran, seiner Mutter zu gehorchen...\r\nCornelia Scherb liest die Geschichte für Kinder ab vier Jahren vor. \r\nAnschließend wird gemalt.\r\nKostenlos\r\nOhne Begleitung 
LOCATION:Medienhaus am See – Zweigstelle Fischbach, 88048 Friedrichshafen
ATTACH:https://www.medienhaus-am-see.de/fileadmin/BENUTZERDATEN/medienhaus-am-see.de/Veranstaltungen/2026_Buchcover_WaschbaerWaschmichnicht.jpg
END:VEVENT
END:VCALENDAR