BEGIN:VCALENDAR
VERSION:2.0
PRODID:-//TYPO3/WES Cal (wes_cal)//DE
METHOD:PUBLISH
BEGIN:VEVENT
UID:https://www.medienhaus-am-see.de_41051
DTSTAMP:20260419T170739
DTSTART:20260422T160000
DTEND:20260422T164500
CATEGORIES:Ferienprogramm,Kinder & Familie,Für Kinder,Vorlesestunde,Ferienprogramm
SUMMARY:Vorlesestunde „Der Teddy und die Tiere“
DESCRIPTION:Eine Fliege summt um Teddys Nase und fragt ihn, wozu er eigentlich da ist. Doch Washable weiß darauf keine Antwort. Ist er deshalb dumm, so wie die Fliege behauptet? Um dies herauszufinden, macht sich Washable mit der Frage „Wozu gibt es mich eigentlich?“ auf den Weg zu verschiedenen Tieren.\r\nEva Gander liest die Geschichte für Kinder ab vier Jahren vor.\r\nAnschließend wird gemalt.\r\nKostenlos\r\nOhne Begleitung.
LOCATION:Ausguck im Medienhaus am See, 88045 Friedrichshafen
ATTACH:https://www.medienhaus-am-see.de/fileadmin/BENUTZERDATEN/medienhaus-am-see.de/Veranstaltungen/2026_Buchcover_TeddyTiere.jpg
END:VEVENT
END:VCALENDAR