BEGIN:VCALENDAR
VERSION:2.0
PRODID:-//TYPO3/WES Cal (wes_cal)//DE
METHOD:PUBLISH
BEGIN:VEVENT
UID:https://www.medienhaus-am-see.de_41052
DTSTAMP:20260419T172437
DTSTART:20260429T160000
DTEND:20260429T163000
CATEGORIES:Kinder & Familie,Für Kinder,Erzählen mit dem Kamishibai,Ferienprogramm,Ferienprogramm
SUMMARY:Erzählen mit dem Kamishibai „Der kleine Siebenschläfer, der seine Schnuffeldecke nicht hergeben wollte“
DESCRIPTION:Der kleine Siebenschläfer schätzt seine Schnuffeldecke über alles. Trotzdem leiht er sie dem Eichhörnchen und noch weiteren Tieren aus und findet dadurch viele Freunde. Gemeinsam liegen alle nach abenteuerlichen Spielen unter der Decke und schlafen zufrieden ein. \r\nLisbeth Reiter erzählt die Geschichte für Kinder ab 3 Jahren mit Begleitung. \r\nKosten: keine
LOCATION:Ausguck im Medienhaus am See, 88045 Friedrichshafen
ATTACH:https://www.medienhaus-am-see.de/fileadmin/BENUTZERDATEN/medienhaus-am-see.de/Veranstaltungen/2026_Kamishibai_SiebenschlaeferSchnuffeldecke.jpg
END:VEVENT
END:VCALENDAR