BEGIN:VCALENDAR
VERSION:2.0
PRODID:-//TYPO3/WES Cal (wes_cal)//DE
METHOD:PUBLISH
BEGIN:VEVENT
UID:https://www.medienhaus-am-see.de_41048
DTSTAMP:20260423T095040
DTSTART:20260430T160000
DTEND:20260430T164500
CATEGORIES:Ferienprogramm,Kinder & Familie,Für Kinder,Bilderbuchkino,Ferienprogramm
SUMMARY:Bilderbuchkino „Die große Weltreise durch den Zoo"
DESCRIPTION:Zoodirektor Ungestüm kündigt einen geschlossenen Zoo für einen Urlaub an, und die Tiere träumen von fernen Zielen wie Paris und Schnee. Ignaz Pfefferminz Igel hat eine brillante Idee, wie sie ihre Weltreise an einem Tag verwirklichen können. \r\nLisbeth Reiter zeigt und erzählt die Geschichte für Kinder ab 4 Jahren.\r\nKosten: keine\r\nOhne Begleitung
LOCATION:Ausguck im Medienhaus am See, 88045 Friedrichshafen
ATTACH:https://www.medienhaus-am-see.de/fileadmin/BENUTZERDATEN/medienhaus-am-see.de/Veranstaltungen/2026_Buchcover_WeltreiseZoo.jpg
END:VEVENT
END:VCALENDAR